BEGIN:VCALENDAR
VERSION:2.0
PRODID:-//Fockendorfer Angelfischerverein 1989 e.V. - ECPv6.15.20//NONSGML v1.0//EN
CALSCALE:GREGORIAN
METHOD:PUBLISH
X-ORIGINAL-URL:https://www.fockendorfer-afv.de
X-WR-CALDESC:Veranstaltungen für Fockendorfer Angelfischerverein 1989 e.V.
REFRESH-INTERVAL;VALUE=DURATION:PT1H
X-Robots-Tag:noindex
X-PUBLISHED-TTL:PT1H
BEGIN:VTIMEZONE
TZID:Europe/Berlin
BEGIN:DAYLIGHT
TZOFFSETFROM:+0100
TZOFFSETTO:+0200
TZNAME:CEST
DTSTART:20250330T010000
END:DAYLIGHT
BEGIN:STANDARD
TZOFFSETFROM:+0200
TZOFFSETTO:+0100
TZNAME:CET
DTSTART:20251026T010000
END:STANDARD
BEGIN:DAYLIGHT
TZOFFSETFROM:+0100
TZOFFSETTO:+0200
TZNAME:CEST
DTSTART:20260329T010000
END:DAYLIGHT
BEGIN:STANDARD
TZOFFSETFROM:+0200
TZOFFSETTO:+0100
TZNAME:CET
DTSTART:20261025T010000
END:STANDARD
BEGIN:DAYLIGHT
TZOFFSETFROM:+0100
TZOFFSETTO:+0200
TZNAME:CEST
DTSTART:20270328T010000
END:DAYLIGHT
BEGIN:STANDARD
TZOFFSETFROM:+0200
TZOFFSETTO:+0100
TZNAME:CET
DTSTART:20271031T010000
END:STANDARD
END:VTIMEZONE
BEGIN:VEVENT
DTSTART;TZID=Europe/Berlin:20260502T080000
DTEND;TZID=Europe/Berlin:20260502T140000
DTSTAMP:20260423T113051
CREATED:20260125T135125Z
LAST-MODIFIED:20260125T135125Z
UID:2277-1777708800-1777730400@www.fockendorfer-afv.de
SUMMARY:Anangeln Verein 2026
DESCRIPTION:
URL:https://www.fockendorfer-afv.de/event/anangeln-verein-2026/
LOCATION:Pahna Strand\, 51.045528\, 12.496083
END:VEVENT
BEGIN:VEVENT
DTSTART;VALUE=DATE:20260515
DTEND;VALUE=DATE:20260516
DTSTAMP:20260423T113051
CREATED:20260125T135257Z
LAST-MODIFIED:20260125T135257Z
UID:2279-1778803200-1778889599@www.fockendorfer-afv.de
SUMMARY:Beginn Angelverbot am Strand vom Naherholungspark
DESCRIPTION:
URL:https://www.fockendorfer-afv.de/event/beginn-angelverbot-am-strand-vom-naherholungspark-4/
LOCATION:Pahna Strand\, 51.045528\, 12.496083
END:VEVENT
BEGIN:VEVENT
DTSTART;TZID=Europe/Berlin:20260522T190000
DTEND;TZID=Europe/Berlin:20260522T210000
DTSTAMP:20260423T113051
CREATED:20260125T134244Z
LAST-MODIFIED:20260125T134244Z
UID:2259-1779476400-1779483600@www.fockendorfer-afv.de
SUMMARY:Mitgliederversammlung
DESCRIPTION:
URL:https://www.fockendorfer-afv.de/event/mitgliederversammlung-46/
LOCATION:Gasthof Wappler – Kaminzimmer\, August- Bebel- Platz 4\, Fockendorf\, Thüringen\, 04617\, Deutschland
END:VEVENT
END:VCALENDAR