BEGIN:VCALENDAR
VERSION:2.0
PRODID:-//Fockendorfer Angelfischerverein 1989 e.V. - ECPv6.15.20//NONSGML v1.0//EN
CALSCALE:GREGORIAN
METHOD:PUBLISH
X-ORIGINAL-URL:https://www.fockendorfer-afv.de
X-WR-CALDESC:Veranstaltungen für Fockendorfer Angelfischerverein 1989 e.V.
REFRESH-INTERVAL;VALUE=DURATION:PT1H
X-Robots-Tag:noindex
X-PUBLISHED-TTL:PT1H
BEGIN:VTIMEZONE
TZID:Europe/Berlin
BEGIN:DAYLIGHT
TZOFFSETFROM:+0100
TZOFFSETTO:+0200
TZNAME:CEST
DTSTART:20250330T010000
END:DAYLIGHT
BEGIN:STANDARD
TZOFFSETFROM:+0200
TZOFFSETTO:+0100
TZNAME:CET
DTSTART:20251026T010000
END:STANDARD
BEGIN:DAYLIGHT
TZOFFSETFROM:+0100
TZOFFSETTO:+0200
TZNAME:CEST
DTSTART:20260329T010000
END:DAYLIGHT
BEGIN:STANDARD
TZOFFSETFROM:+0200
TZOFFSETTO:+0100
TZNAME:CET
DTSTART:20261025T010000
END:STANDARD
BEGIN:DAYLIGHT
TZOFFSETFROM:+0100
TZOFFSETTO:+0200
TZNAME:CEST
DTSTART:20270328T010000
END:DAYLIGHT
BEGIN:STANDARD
TZOFFSETFROM:+0200
TZOFFSETTO:+0100
TZNAME:CET
DTSTART:20271031T010000
END:STANDARD
END:VTIMEZONE
BEGIN:VEVENT
DTSTART;TZID=Europe/Berlin:20260612T190000
DTEND;TZID=Europe/Berlin:20260612T210000
DTSTAMP:20260425T121733
CREATED:20260125T134312Z
LAST-MODIFIED:20260125T134312Z
UID:2261-1781290800-1781298000@www.fockendorfer-afv.de
SUMMARY:Mitgliederversammlung
DESCRIPTION:
URL:https://www.fockendorfer-afv.de/event/mitgliederversammlung-47/
LOCATION:Gasthof Wappler – Kaminzimmer\, August- Bebel- Platz 4\, Fockendorf\, Thüringen\, 04617\, Deutschland
END:VEVENT
END:VCALENDAR