BEGIN:VCALENDAR
VERSION:2.0
PRODID:-//Fockendorfer Angelfischerverein 1989 e.V. - ECPv6.15.20//NONSGML v1.0//EN
CALSCALE:GREGORIAN
METHOD:PUBLISH
X-ORIGINAL-URL:https://www.fockendorfer-afv.de
X-WR-CALDESC:Veranstaltungen für Fockendorfer Angelfischerverein 1989 e.V.
REFRESH-INTERVAL;VALUE=DURATION:PT1H
X-Robots-Tag:noindex
X-PUBLISHED-TTL:PT1H
BEGIN:VTIMEZONE
TZID:Europe/Berlin
BEGIN:DAYLIGHT
TZOFFSETFROM:+0100
TZOFFSETTO:+0200
TZNAME:CEST
DTSTART:20250330T010000
END:DAYLIGHT
BEGIN:STANDARD
TZOFFSETFROM:+0200
TZOFFSETTO:+0100
TZNAME:CET
DTSTART:20251026T010000
END:STANDARD
BEGIN:DAYLIGHT
TZOFFSETFROM:+0100
TZOFFSETTO:+0200
TZNAME:CEST
DTSTART:20260329T010000
END:DAYLIGHT
BEGIN:STANDARD
TZOFFSETFROM:+0200
TZOFFSETTO:+0100
TZNAME:CET
DTSTART:20261025T010000
END:STANDARD
BEGIN:DAYLIGHT
TZOFFSETFROM:+0100
TZOFFSETTO:+0200
TZNAME:CEST
DTSTART:20270328T010000
END:DAYLIGHT
BEGIN:STANDARD
TZOFFSETFROM:+0200
TZOFFSETTO:+0100
TZNAME:CET
DTSTART:20271031T010000
END:STANDARD
END:VTIMEZONE
BEGIN:VEVENT
DTSTART;TZID=Europe/Berlin:20260905T170000
DTEND;TZID=Europe/Berlin:20260905T223000
DTSTAMP:20260425T163225
CREATED:20260125T135721Z
LAST-MODIFIED:20260125T140006Z
UID:2285-1788627600-1788647400@www.fockendorfer-afv.de
SUMMARY:Lichterfest See-Camping Altenburg-Pahna
DESCRIPTION:
URL:https://www.fockendorfer-afv.de/event/lichterfest-see-camping-altenburg-pahna-2/
LOCATION:Pahna „Großer See“ Nähe Strand-Gaststätte\, 51.046634\, 12.502109
END:VEVENT
BEGIN:VEVENT
DTSTART;TZID=Europe/Berlin:20260911T190000
DTEND;TZID=Europe/Berlin:20260911T210000
DTSTAMP:20260425T163225
CREATED:20260125T134342Z
LAST-MODIFIED:20260125T134342Z
UID:2263-1789153200-1789160400@www.fockendorfer-afv.de
SUMMARY:Mitgliederversammlung
DESCRIPTION:
URL:https://www.fockendorfer-afv.de/event/mitgliederversammlung-48/
END:VEVENT
BEGIN:VEVENT
DTSTART;VALUE=DATE:20260915
DTEND;VALUE=DATE:20260916
DTSTAMP:20260425T163225
CREATED:20260125T135936Z
LAST-MODIFIED:20260125T135936Z
UID:2289-1789430400-1789516799@www.fockendorfer-afv.de
SUMMARY:Strand vom Naherholungspark darf wieder beangelt werden
DESCRIPTION:
URL:https://www.fockendorfer-afv.de/event/strand-vom-naherholungspark-darf-wieder-beangelt-werden-3/
LOCATION:„Großer See“ in Pahna Strandseite\, 51.046660\, 12.499893
END:VEVENT
BEGIN:VEVENT
DTSTART;VALUE=DATE:20260925
DTEND;VALUE=DATE:20260928
DTSTAMP:20260425T163225
CREATED:20260125T135835Z
LAST-MODIFIED:20260125T135835Z
UID:2287-1790294400-1790553599@www.fockendorfer-afv.de
SUMMARY:Tauchveranstaltung am "Großen See" in Pahna | Angeln nicht gewünscht
DESCRIPTION:
URL:https://www.fockendorfer-afv.de/event/tauchveranstaltung-am-grossen-see-in-pahna-angeln-nicht-gewuenscht-4/
END:VEVENT
END:VCALENDAR