BEGIN:VCALENDAR
VERSION:2.0
PRODID:-//Fockendorfer Angelfischerverein 1989 e.V. - ECPv6.15.20//NONSGML v1.0//EN
CALSCALE:GREGORIAN
METHOD:PUBLISH
X-WR-CALNAME:Fockendorfer Angelfischerverein 1989 e.V.
X-ORIGINAL-URL:https://www.fockendorfer-afv.de
X-WR-CALDESC:Veranstaltungen für Fockendorfer Angelfischerverein 1989 e.V.
REFRESH-INTERVAL;VALUE=DURATION:PT1H
X-Robots-Tag:noindex
X-PUBLISHED-TTL:PT1H
BEGIN:VTIMEZONE
TZID:Europe/Berlin
BEGIN:DAYLIGHT
TZOFFSETFROM:+0100
TZOFFSETTO:+0200
TZNAME:CEST
DTSTART:20250330T010000
END:DAYLIGHT
BEGIN:STANDARD
TZOFFSETFROM:+0200
TZOFFSETTO:+0100
TZNAME:CET
DTSTART:20251026T010000
END:STANDARD
BEGIN:DAYLIGHT
TZOFFSETFROM:+0100
TZOFFSETTO:+0200
TZNAME:CEST
DTSTART:20260329T010000
END:DAYLIGHT
BEGIN:STANDARD
TZOFFSETFROM:+0200
TZOFFSETTO:+0100
TZNAME:CET
DTSTART:20261025T010000
END:STANDARD
BEGIN:DAYLIGHT
TZOFFSETFROM:+0100
TZOFFSETTO:+0200
TZNAME:CEST
DTSTART:20270328T010000
END:DAYLIGHT
BEGIN:STANDARD
TZOFFSETFROM:+0200
TZOFFSETTO:+0100
TZNAME:CET
DTSTART:20271031T010000
END:STANDARD
END:VTIMEZONE
BEGIN:VEVENT
DTSTART;VALUE=DATE:20261001
DTEND;VALUE=DATE:20261101
DTSTAMP:20260425T180942
CREATED:20260125T134737Z
LAST-MODIFIED:20260125T134758Z
UID:2271-1790812800-1793491199@www.fockendorfer-afv.de
SUMMARY:Vereinsfest 2026
DESCRIPTION:Irgendwann im Oktober werden wir unser Vereinsfest durchführen. Details folgen noch.
URL:https://www.fockendorfer-afv.de/event/vereinsfest-2026/
END:VEVENT
BEGIN:VEVENT
DTSTART;TZID=Europe/Berlin:20261016T190000
DTEND;TZID=Europe/Berlin:20261016T210000
DTSTAMP:20260425T180942
CREATED:20260125T134434Z
LAST-MODIFIED:20260125T134434Z
UID:2265-1792177200-1792184400@www.fockendorfer-afv.de
SUMMARY:Mitgliederversammlung
DESCRIPTION:
URL:https://www.fockendorfer-afv.de/event/mitgliederversammlung-49/
LOCATION:Gasthof Wappler – Kaminzimmer\, August- Bebel- Platz 4\, Fockendorf\, Thüringen\, 04617\, Deutschland
END:VEVENT
END:VCALENDAR